BEGIN:VCALENDAR
VERSION:2.0
PRODID:-//Tukios.com/
BEGIN:VEVENT
UID:598702cb-b29a-4c6a-8cfa-433ddaba5957@www.wilsonfuneralhome.net
DTSTAMP:20260423T195325Z
DTSTART:20260429T190000Z
DTEND:20260429T200000Z
SUMMARY:Visitation
DESCRIPTION:
URL:https://www.wilsonfuneralhome.net/obituaries/sandra-barbaresi
LOCATION:Wilson Funeral Home 214 Airport Road  Panama City FL 32405
GEO:30.1793324;-85.6633628
END:VEVENT
END:VCALENDAR