BEGIN:VCALENDAR
VERSION:2.0
PRODID:-//Tukios.com/
BEGIN:VEVENT
UID:57467e69-3b53-4349-a46e-13ae353ceb6b@www.wilsonfuneralhome.net
DTSTAMP:20260423T195248Z
DTSTART:20260429T200000Z
DTEND:20260429T210000Z
SUMMARY:Celebration of Life
DESCRIPTION:
URL:https://www.wilsonfuneralhome.net/obituaries/sandra-barbaresi
LOCATION:Wilson Funeral Home Chapel 214 Airport Road  Panama City FL 
	32405
GEO:30.1793324;-85.6633628
END:VEVENT
END:VCALENDAR