BEGIN:VCALENDAR
VERSION:2.0
PRODID:-//Tukios.com/
BEGIN:VEVENT
UID:b0ddfb64-db57-41f4-b949-47abbda7dc70@www.wilsonfuneralhome.net
DTSTAMP:20260423T172545Z
DTSTART:20260424T210000Z
DTEND:20260424T220000Z
SUMMARY:Memorial Service
DESCRIPTION:
URL:https://www.wilsonfuneralhome.net/obituaries/oscar-smith
LOCATION:Lynn Haven Methodist Church 3203 Minnesota Avenue  Panama City 
	FL 32405
GEO:30.2074148;-85.6460792
END:VEVENT
END:VCALENDAR