BEGIN:VCALENDAR
VERSION:2.0
PRODID:-//Tukios.com/
BEGIN:VEVENT
UID:333e590e-a4fa-460a-9387-51bba48b96b3@www.wilsonfuneralhome.net
DTSTAMP:20260420T182005Z
DTSTART:20260421T050000Z
DTEND:20260421T060000Z
SUMMARY:Graveside Service
DESCRIPTION:
URL:https://www.wilsonfuneralhome.net/obituaries/judith-andrews
LOCATION:Evergreen Memorial Gardens 3733 US-231  Panama City FL 32404
GEO:30.2189141;-85.6042927
END:VEVENT
END:VCALENDAR