BEGIN:VCALENDAR
VERSION:2.0
PRODID:-//Tukios.com/
BEGIN:VEVENT
UID:1ad28abb-1439-4e9c-9531-ff69422195a8@www.wilsonfuneralhome.net
DTSTAMP:20260426T022544Z
DTSTART:20260427T200000Z
DTEND:20260427T210000Z
SUMMARY:Visitation
DESCRIPTION:
URL:https://www.wilsonfuneralhome.net/obituaries/john-german-jr
LOCATION:Wilson Funeral Home 214 Airport Road  Panama City FL 32405
GEO:30.1793324;-85.6633628
END:VEVENT
END:VCALENDAR