BEGIN:VCALENDAR
VERSION:2.0
PRODID:-//Tukios.com/
BEGIN:VEVENT
UID:e0f90f1b-5260-4585-8b2e-ab88d8e218e6@www.wilsonfuneralhome.net
DTSTAMP:20260426T022729Z
DTSTART:20260427T210000Z
DTEND:20260427T220000Z
SUMMARY:Funeral Service
DESCRIPTION:
URL:https://www.wilsonfuneralhome.net/obituaries/john-german-jr
LOCATION:Wilson Funeral Home Chapel 214 Airport Road  Panama City FL 
	32405
GEO:30.1793324;-85.6633628
END:VEVENT
END:VCALENDAR