BEGIN:VCALENDAR
VERSION:2.0
PRODID:-//Tukios.com/
BEGIN:VEVENT
UID:60c88944-4341-4961-8451-562f6359bd6f@www.wilsonfuneralhome.net
DTSTAMP:20260424T182558Z
DTSTART:20260427T160000Z
DTEND:20260427T170000Z
SUMMARY:Celebration of Life
DESCRIPTION:
URL:https://www.wilsonfuneralhome.net/obituaries/jared-sasnett
LOCATION: 2611 U.S. 231  Panama City FL 32405
GEO:30.2002862;-85.6265294
END:VEVENT
END:VCALENDAR